BEGIN:VCALENDAR
VERSION:2.0
PRODID:-//wp-events-plugin.com//7.2.3.1//EN
TZID:Europe/Berlin
X-WR-TIMEZONE:Europe/Berlin
BEGIN:VEVENT
UID:1-770@xn--heeper-schtzen-psb.de
DTSTART;TZID=Europe/Berlin:20250315T183000
DTEND;TZID=Europe/Berlin:20250315T235900
DTSTAMP:20250312T092904Z
URL:https://xn--heeper-schtzen-psb.de/events/generalversammlung-2/
SUMMARY:Generalversammlung
DESCRIPTION:Wir laden unsere Schützenschwestern und Schützenbrüder zur G
 eneralversammlung am 🗓️ 15. März 2025 🕢 um 18:30 Uhr ins 🏠 Ver
 einsheim auf dem Schützenberg ein.\n\nTagesordnungspunkte:\n- Begrüßung
  👋🏼\n- Verlesung des Protokolls 📝\n- Mitgliederbewegungen 📈\n-
  Berichte 📄\n- Bericht der Kassenprüfer und Entlastung 💰\n- Wahlen 
 🗳️\n- Verleihung Pokale und Ehrenscheiben 🏆\n- Schützenfest 2025 
 🎉\n- sonstige Veranstaltungen 📅\n- Verschiedenes 📌\n\nWir freuen 
 uns auf rege Teilnahme!\nHorrido! 🟢⚪️
ATTACH;FMTTYPE=image/jpeg:https://xn--heeper-schtzen-psb.de/wp-content/upl
 oads/2025/01/generalversammlung2025.jpg
CATEGORIES:1. Kompanie,2. Kompanie,3. Kompanie,4.
 Kompanie,Bogensport,Hauptverein,Jugend,Schießsport
END:VEVENT
BEGIN:VTIMEZONE
TZID:Europe/Berlin
X-LIC-LOCATION:Europe/Berlin
BEGIN:STANDARD
DTSTART:20241027T020000
TZOFFSETFROM:+0200
TZOFFSETTO:+0100
TZNAME:CET
END:STANDARD
END:VTIMEZONE
END:VCALENDAR