BEGIN:VCALENDAR
VERSION:2.0
PRODID:-//wp-events-plugin.com//7.2.3.1//EN
TZID:Europe/Berlin
X-WR-TIMEZONE:Europe/Berlin
BEGIN:VEVENT
UID:1-802@xn--heeper-schtzen-psb.de
DTSTART;TZID=Europe/Berlin:20260307T000000
DTEND;TZID=Europe/Berlin:20260307T000000
DTSTAMP:20260108T100044Z
URL:https://xn--heeper-schtzen-psb.de/events/generalversammlung-3/
SUMMARY:Generalversammlung
DESCRIPTION:Wir laden unsere Schützenschwestern und Schützenbrüder zur G
 eneralversammlung am 🗓️ 7. März 2026 🕢 um 18:30 Uhr ins 🏠 Vere
 insheim auf dem Schützenberg ein.\n\nVoraussichtliche Tagesordnungspunkte
 :\n- Begrüßung 👋🏼\n- Verlesung des Protokolls 📝\n- Mitgliederbe
 wegungen 📈\n- Berichte 📄\n- Bericht der Kassenprüfer und Entlastung
  💰\n- Wahlen 🗳️\n- Verleihung Pokale und Ehrenscheiben 🏆\n- Sch
 ützenfest 2025 🎉\n- sonstige Veranstaltungen 📅\n- Verschiedenes 
 📌\n\nWir freuen uns auf rege Teilnahme!\nHorrido! 🟢⚪️
ATTACH;FMTTYPE=image/jpeg:https://xn--heeper-schtzen-psb.de/wp-content/upl
 oads/2019/08/SGH-Logo-Beitrag.jpg
CATEGORIES:1. Kompanie,2. Kompanie,3. Kompanie,4.
 Kompanie,Bogensport,Hauptverein,Jugend,Schießsport
LOCATION:Schützenberg\, Salzufler Straße 108a\, Bielefeld-Heepen\, 33719\
 , Deutschland
GEO:52.02772;8.61734
X-APPLE-STRUCTURED-LOCATION;VALUE=URI;X-ADDRESS=Salzufler Straße 108a\, Bi
 elefeld-Heepen\, 33719\, Deutschland;X-APPLE-RADIUS=100;X-TITLE=Schützenb
 erg:geo:52.02772,8.61734
END:VEVENT
BEGIN:VTIMEZONE
TZID:Europe/Berlin
X-LIC-LOCATION:Europe/Berlin
BEGIN:STANDARD
DTSTART:20251026T020000
TZOFFSETFROM:+0200
TZOFFSETTO:+0100
TZNAME:CET
END:STANDARD
END:VTIMEZONE
END:VCALENDAR